BEGIN:VCALENDAR
VERSION:2.0
PRODID:-//Tukios.com/
BEGIN:VEVENT
UID:5f9b59b3-be42-415b-9057-35df4755fc0b@www.stinsonfh.com
DTSTAMP:20260422T211805Z
DTSTART:20260423T200000Z
DTEND:20260423T230000Z
SUMMARY:Public Viewing
DESCRIPTION:
URL:https://www.stinsonfh.com/obituaries/kenya-keys
LOCATION: 16540 Meyers Rd  Detroit MI 48235
GEO:42.4125387;-83.1695466
END:VEVENT
END:VCALENDAR