BEGIN:VCALENDAR
VERSION:2.0
PRODID:-//Tukios.com/
BEGIN:VEVENT
UID:5ab03d7c-0ab1-49f2-9626-59e58fa21f2a@www.stinsonfh.com
DTSTAMP:20260422T211933Z
DTSTART:20260424T183000Z
DTEND:20260424T193000Z
SUMMARY:Funeral Service
DESCRIPTION:
URL:https://www.stinsonfh.com/obituaries/kenya-keys
LOCATION:Stinson Funeral Home Detroit, Inc. 16540 Meyers Rd  Detroit MI 
	48235
GEO:42.4125387;-83.1695466
END:VEVENT
END:VCALENDAR