BEGIN:VCALENDAR
VERSION:2.0
PRODID:-//Tukios.com/
BEGIN:VEVENT
UID:ac6c92df-7bac-4f0e-9763-92796d7ea1f8@www.stinsonfh.com
DTSTAMP:20260422T212139Z
DTSTART:20260424T180000Z
DTEND:20260424T183000Z
SUMMARY:Family Hour
DESCRIPTION:
URL:https://www.stinsonfh.com/obituaries/kenya-keys
LOCATION: 16540 Meyers Rd  Detroit MI 48235
GEO:42.4125387;-83.1695466
END:VEVENT
END:VCALENDAR