BEGIN:VCALENDAR
VERSION:2.0
PRODID:-//Tukios.com/
BEGIN:VEVENT
UID:0435c3ce-28c0-4276-861a-2ec79aa7524c@www.stinsonfh.com
DTSTAMP:20260424T183326Z
DTSTART:20260503T190000Z
DTEND:20260503T220000Z
SUMMARY:Public Viewing
DESCRIPTION:
URL:https://www.stinsonfh.com/obituaries/nadine-mcwillie
LOCATION: 16540 Meyers Rd  Detroit MI 48235
GEO:42.4125387;-83.1695466
END:VEVENT
END:VCALENDAR