BEGIN:VCALENDAR
VERSION:2.0
PRODID:-//Tukios.com/
BEGIN:VEVENT
UID:63bc3560-60d4-48a1-907f-412ee21afba8@www.stinsonfh.com
DTSTAMP:20260424T183443Z
DTSTART:20260504T153000Z
DTEND:20260504T163000Z
SUMMARY:Funeral Service
DESCRIPTION:
URL:https://www.stinsonfh.com/obituaries/nadine-mcwillie
LOCATION:Triumph Church 15600 J L Hudson Drive  Detroit MI 48075
GEO:42.4549951;-83.2101552
END:VEVENT
END:VCALENDAR