BEGIN:VCALENDAR
VERSION:2.0
PRODID:-//Tukios.com/
BEGIN:VEVENT
UID:135c8eed-c901-4a92-87cb-56ccc1601239@www.stinsonfh.com
DTSTAMP:20260424T183448Z
DTSTART:20260504T143000Z
DTEND:20260504T153000Z
SUMMARY:Family Hour
DESCRIPTION:
URL:https://www.stinsonfh.com/obituaries/nadine-mcwillie
LOCATION: 15600 J L Hudson Drive  Southfield MI 48075
GEO:42.4549951;-83.2101552
END:VEVENT
END:VCALENDAR